BEGIN:VCALENDAR
VERSION:2.0
PRODID:-//Histoire &amp; Patrimoine de Saint-Etienne - ECPv6.15.20//NONSGML v1.0//EN
CALSCALE:GREGORIAN
METHOD:PUBLISH
X-WR-CALNAME:Histoire &amp; Patrimoine de Saint-Etienne
X-ORIGINAL-URL:https://hpse.fr
X-WR-CALDESC:Évènements pour Histoire &amp; Patrimoine de Saint-Etienne
REFRESH-INTERVAL;VALUE=DURATION:PT1H
X-Robots-Tag:noindex
X-PUBLISHED-TTL:PT1H
BEGIN:VTIMEZONE
TZID:Europe/Paris
BEGIN:DAYLIGHT
TZOFFSETFROM:+0100
TZOFFSETTO:+0200
TZNAME:CEST
DTSTART:20240331T010000
END:DAYLIGHT
BEGIN:STANDARD
TZOFFSETFROM:+0200
TZOFFSETTO:+0100
TZNAME:CET
DTSTART:20241027T010000
END:STANDARD
BEGIN:DAYLIGHT
TZOFFSETFROM:+0100
TZOFFSETTO:+0200
TZNAME:CEST
DTSTART:20250330T010000
END:DAYLIGHT
BEGIN:STANDARD
TZOFFSETFROM:+0200
TZOFFSETTO:+0100
TZNAME:CET
DTSTART:20251026T010000
END:STANDARD
BEGIN:DAYLIGHT
TZOFFSETFROM:+0100
TZOFFSETTO:+0200
TZNAME:CEST
DTSTART:20260329T010000
END:DAYLIGHT
BEGIN:STANDARD
TZOFFSETFROM:+0200
TZOFFSETTO:+0100
TZNAME:CET
DTSTART:20261025T010000
END:STANDARD
END:VTIMEZONE
BEGIN:VEVENT
DTSTART;TZID=Europe/Paris:20250920T100000
DTEND;TZID=Europe/Paris:20250921T170000
DTSTAMP:20260420T232518
CREATED:20250807T154334Z
LAST-MODIFIED:20250814T120138Z
UID:1050-1758362400-1758474000@hpse.fr
SUMMARY:Journées Européennes du Patrimoine Samedi 20 et Dimanche 21 septembre Exposition
DESCRIPTION:Exposition du fonds iconographique d’Histoire et Patrimoine de Saint-Étienne\nSamedi 20 et dimanche 21 septembre 2025 de 10h00 à 12h00 et de 14h00 à 17h00 (visite libre et gratuite)\n\n– Rendez-vous à l’Hôtel de Villeneuve\, siège social d’HPSE\, 11\, rue Gambetta en salle de conférence.\n\nMalgré le transfert de nos collections au Musée d’Art et d’Industrie\, Histoire et Patrimoine de Saint-Étienne possède encore un fonds documentaire et iconographique important qui sera exposé en partie lors des Journées Européennes du Patrimoine : cartes\, plans\, photographies et lettres autographes d’hommes célèbres liés à l’histoire de notre ville (Jules Massenet\, Georges Clemenceau notamment).\n\n\nÀ l’occasion de cette exposition\, des revues d’Histoire et Patrimoine de Saint-Étienne seront mises en vente. \nL’Hôtel Jullien-Chomat de Villeneuve\, inscrit aux monuments historiques le 17 janvier 1967\, est situé au cœur du vieux Saint-Étienne est encore pour un temps le siège de notre association. Cet hôtel particulier\, construit au XVIIe siècle\, constitue un pont entre la ville ancienne et celle du XIXe siècle. Il possède d’exceptionnels plafonds à la fougère qui résultent du croisement de deux techniques : le plafond à caissons de la Renaissance italienne et le plafond à la française. \n Ce type de décor se développe principalement au XVIe siècle dans le Forez et au XVIIe siècle dans la construction urbaine stéphanoise. Cette spécificité régionale allie artisanat et influence italianisante.  \n En épousant Madeleine de Forcieu de Rochetaillée en 1647\, il récupère en dot la parcelle sur laquelle il fait construire l’hôtel particulier. De 1665 à 1668\, il est recteur de l’Hôpital de la Charité et à partir de 1674\, il est élu au Conseil de la ville. Il est secrétaire de « La Grande Mademoiselle » (petite-fille d’Henri IV) princesse de Dombes. \n Le nom de Villeneuve provient d’un fief proche de Firminy\, rentré dans la famille Jullien-Chomat en 1725.
URL:https://hpse.fr/index.php/event/exposition-pour-les-journees-europeenne-du-patrimoine/
LOCATION:Hôtel de Villeneuve Grand Salon\, 11 rue Gambetta\, Saint Etienne\, 42000\, France
ORGANIZER;CN="Histoire & Patrimoine de Saint-Etienne":MAILTO:secretariat.hpse42@gmail.com
END:VEVENT
BEGIN:VEVENT
DTSTART;TZID=Europe/Paris:20250921T143000
DTEND;TZID=Europe/Paris:20250921T163000
DTSTAMP:20260420T232518
CREATED:20250814T115036Z
LAST-MODIFIED:20250814T144100Z
UID:1085-1758465000-1758472200@hpse.fr
SUMMARY:JOURNEES EUROPEENNES DU PATRIMOINE Circuit Joanny Morin
DESCRIPTION:Rendez-vous pour le début du parcours un quart d’heure avant le départ  : 1\, rue Pierre et Marie Curie \n Le parcours partira du 1\, rue Pierre et Marie Curie puis se poursuivra jusqu’au quartier Libération où on pourra voir plusieurs réalisations emblématiques de l’architecte : Immeuble Fontanès\, immeuble Michoudet\, la « Martre de France »… puis se terminera place Jean Jaurès et en bas des marches de la montée du Crêt de Roch\, où l’on pourra voir un autre aspect de son travail pour la ville avec différentes ferronneries.  \nCette balade sera une occasion de comprendre l’Art Nouveau et ses différences avec l’Art Déco.  \n Joanny Morin (1865-1913) était un architecte stéphanois à la production modeste mais à la démarche originale\, particulièrement dans le contexte de l’Art Nouveau. Après des débuts conventionnels (1899-1900)\, il a rapidement privilégié le style Art Nouveau\, dont il a exploité le registre décoratif avec pertinence. \n Né en 1865 à  Saint-Étienne\, Joanny Morin s’est formé à  l’école municipale de dessin entre 1880 et 1884. Il a intégré parallèlement le service de la voirie municipale dès 1881. \nJoanny Morin est considéré comme le principal représentant local de l’Art Nouveau. Son engagement envers ce style\, développé avec cohésion à partir de 1902\, a apporté une modernité indéniable à l’architecture stéphanoise.
URL:https://hpse.fr/index.php/event/journees-europeennes-du-patrimoine-circuit-joanny-morin/
LOCATION:1 rue Pierre et Marie Currie\, 1 rue Pierre et Marie Curie\, Saint Etienne\, Sélectionner un État :\, 42000\, France
ORGANIZER;CN="Histoire & Patrimoine de Saint-Etienne":MAILTO:secretariat.hpse42@gmail.com
END:VEVENT
END:VCALENDAR