BEGIN:VCALENDAR
VERSION:2.0
PRODID:-//Histoire &amp; Patrimoine de Saint-Etienne - ECPv6.15.20//NONSGML v1.0//EN
CALSCALE:GREGORIAN
METHOD:PUBLISH
X-WR-CALNAME:Histoire &amp; Patrimoine de Saint-Etienne
X-ORIGINAL-URL:https://hpse.fr
X-WR-CALDESC:Évènements pour Histoire &amp; Patrimoine de Saint-Etienne
REFRESH-INTERVAL;VALUE=DURATION:PT1H
X-Robots-Tag:noindex
X-PUBLISHED-TTL:PT1H
BEGIN:VTIMEZONE
TZID:Europe/Paris
BEGIN:DAYLIGHT
TZOFFSETFROM:+0100
TZOFFSETTO:+0200
TZNAME:CEST
DTSTART:20250330T010000
END:DAYLIGHT
BEGIN:STANDARD
TZOFFSETFROM:+0200
TZOFFSETTO:+0100
TZNAME:CET
DTSTART:20251026T010000
END:STANDARD
BEGIN:DAYLIGHT
TZOFFSETFROM:+0100
TZOFFSETTO:+0200
TZNAME:CEST
DTSTART:20260329T010000
END:DAYLIGHT
BEGIN:STANDARD
TZOFFSETFROM:+0200
TZOFFSETTO:+0100
TZNAME:CET
DTSTART:20261025T010000
END:STANDARD
BEGIN:DAYLIGHT
TZOFFSETFROM:+0100
TZOFFSETTO:+0200
TZNAME:CEST
DTSTART:20270328T010000
END:DAYLIGHT
BEGIN:STANDARD
TZOFFSETFROM:+0200
TZOFFSETTO:+0100
TZNAME:CET
DTSTART:20271031T010000
END:STANDARD
END:VTIMEZONE
BEGIN:VEVENT
DTSTART;TZID=Europe/Paris:20260117T143000
DTEND;TZID=Europe/Paris:20260117T163000
DTSTAMP:20260420T172514
CREATED:20251229T135837Z
LAST-MODIFIED:20251229T135837Z
UID:1440-1768660200-1768667400@hpse.fr
SUMMARY:Histoire du rail à Saint-Chamond et les liaisons ferroviaires entre Saint-Etienne et Lyon par Jean CARALP
DESCRIPTION:Saviez-vous que notre territoire fut le laboratoire d’une révolution mondiale ? Dès 1832\, bien avant les grandes lignes parisiennes\, la liaison Saint-Étienne / Lyon s’impose comme la seconde ligne de chemin de fer. \nCette conférence vous propose de remonter le temps\, à l’époque où les locomotives à vapeur de Marc Seguin transformaient radicalement notre paysage. Mais l’histoire ne s’arrête pas là : le nœud ferroviaire de Saint-Chamond présente une densité exceptionnelle\, ayant été desservi par quatre compagnies différentes. Dans les années 1920-1930\, un voyageur pouvait relier Saint-Étienne à Saint-Chamond via trois itinéraires distincts\, dont deux empruntaient des voies métriques. \nÀ travers l’analyse des prouesses techniques nécessaires pour franchir nos reliefs escarpés et l’évocation de l’essor des prestigieuses aciéries locales\, nous mettrons en lumière l’importance capitale du rail. Plus qu’une prouesse d’ingénierie\, le train a été le moteur d’une métamorphose sociale et industrielle sans précédent. \nVenez découvrir les coulisses techniques et humaines de cette épopée qui a forgé l’identité de notre région.
URL:https://hpse.fr/index.php/event/histoire-du-rail-a-saint-chamond-et-les-liaisons-ferroviaires-entre-saint-etienne-et-lyon-par-jean-caralp/
LOCATION:Archives départementales de la Loire\, 6 rue Barrouin\, Saint Etienne\, Sélectionner un État :\, 42000\, France
CATEGORIES:Conférences
ATTACH;FMTTYPE=image/jpeg:https://hpse.fr/wp-content/uploads/2025/12/Affiche-conference-2000-x-2830-px-1-scaled-e1767016645137.jpg
ORGANIZER;CN="Histoire & Patrimoine de Saint-Etienne":MAILTO:secretariat.hpse42@gmail.com
END:VEVENT
END:VCALENDAR